BEGIN:VCALENDAR
VERSION:2.0
PRODID:-//Borg Wiener Neustadt - ECPv6.15.20//NONSGML v1.0//EN
CALSCALE:GREGORIAN
METHOD:PUBLISH
X-ORIGINAL-URL:https://www.borgwn.at
X-WR-CALDESC:Veranstaltungen für Borg Wiener Neustadt
REFRESH-INTERVAL;VALUE=DURATION:PT1H
X-Robots-Tag:noindex
X-PUBLISHED-TTL:PT1H
BEGIN:VTIMEZONE
TZID:Europe/Vienna
BEGIN:DAYLIGHT
TZOFFSETFROM:+0100
TZOFFSETTO:+0200
TZNAME:CEST
DTSTART:20190331T010000
END:DAYLIGHT
BEGIN:STANDARD
TZOFFSETFROM:+0200
TZOFFSETTO:+0100
TZNAME:CET
DTSTART:20191027T010000
END:STANDARD
BEGIN:DAYLIGHT
TZOFFSETFROM:+0100
TZOFFSETTO:+0200
TZNAME:CEST
DTSTART:20200329T010000
END:DAYLIGHT
BEGIN:STANDARD
TZOFFSETFROM:+0200
TZOFFSETTO:+0100
TZNAME:CET
DTSTART:20201025T010000
END:STANDARD
BEGIN:DAYLIGHT
TZOFFSETFROM:+0100
TZOFFSETTO:+0200
TZNAME:CEST
DTSTART:20210328T010000
END:DAYLIGHT
BEGIN:STANDARD
TZOFFSETFROM:+0200
TZOFFSETTO:+0100
TZNAME:CET
DTSTART:20211031T010000
END:STANDARD
END:VTIMEZONE
BEGIN:VEVENT
DTSTART;VALUE=DATE:20200201
DTEND;VALUE=DATE:20200210
DTSTAMP:20260420T035838
CREATED:20191108T062454Z
LAST-MODIFIED:20200107T125836Z
UID:1709-1580515200-1581292799@www.borgwn.at
SUMMARY:Semesterferien
DESCRIPTION:
URL:https://www.borgwn.at/event/semesterferien/
CATEGORIES:schulfrei
END:VEVENT
BEGIN:VEVENT
DTSTART;TZID=Europe/Vienna:20200201T170000
DTEND;TZID=Europe/Vienna:20200201T170000
DTSTAMP:20260420T035838
CREATED:20191127T103213Z
LAST-MODIFIED:20191127T103308Z
UID:2178-1580576400-1580576400@www.borgwn.at
SUMMARY:Variacello-Konzert Klavierquartett
DESCRIPTION:
URL:https://www.borgwn.at/event/variacello-konzert-klavierquartett/
LOCATION:Festsaal BORG Wiener Neustadt\, Herzog Leopold-Straße 32\, Wiener Neustadt\, Österreich\, 2700
CATEGORIES:Veranstaltungen
END:VEVENT
END:VCALENDAR