BEGIN:VCALENDAR
VERSION:2.0
PRODID:-//Borg Wiener Neustadt - ECPv6.15.20//NONSGML v1.0//EN
CALSCALE:GREGORIAN
METHOD:PUBLISH
X-ORIGINAL-URL:https://www.borgwn.at
X-WR-CALDESC:Veranstaltungen für Borg Wiener Neustadt
REFRESH-INTERVAL;VALUE=DURATION:PT1H
X-Robots-Tag:noindex
X-PUBLISHED-TTL:PT1H
BEGIN:VTIMEZONE
TZID:Europe/Vienna
BEGIN:DAYLIGHT
TZOFFSETFROM:+0100
TZOFFSETTO:+0200
TZNAME:CEST
DTSTART:20190331T010000
END:DAYLIGHT
BEGIN:STANDARD
TZOFFSETFROM:+0200
TZOFFSETTO:+0100
TZNAME:CET
DTSTART:20191027T010000
END:STANDARD
BEGIN:DAYLIGHT
TZOFFSETFROM:+0100
TZOFFSETTO:+0200
TZNAME:CEST
DTSTART:20200329T010000
END:DAYLIGHT
BEGIN:STANDARD
TZOFFSETFROM:+0200
TZOFFSETTO:+0100
TZNAME:CET
DTSTART:20201025T010000
END:STANDARD
BEGIN:DAYLIGHT
TZOFFSETFROM:+0100
TZOFFSETTO:+0200
TZNAME:CEST
DTSTART:20210328T010000
END:DAYLIGHT
BEGIN:STANDARD
TZOFFSETFROM:+0200
TZOFFSETTO:+0100
TZNAME:CET
DTSTART:20211031T010000
END:STANDARD
END:VTIMEZONE
BEGIN:VEVENT
DTSTART;VALUE=DATE:20200527
DTEND;VALUE=DATE:20200531
DTSTAMP:20260419T225901
CREATED:20191209T131845Z
LAST-MODIFIED:20191209T131845Z
UID:2302-1590537600-1590883199@www.borgwn.at
SUMMARY:Fit Instruktor-Ausbildungskurs
DESCRIPTION:
URL:https://www.borgwn.at/event/fit-instruktor-ausbildungskurs/
LOCATION:Güssing
CATEGORIES:schulisch
END:VEVENT
BEGIN:VEVENT
DTSTART;TZID=Europe/Vienna:20200529T083000
DTEND;TZID=Europe/Vienna:20200529T083000
DTSTAMP:20260419T225901
CREATED:20191107T185017Z
LAST-MODIFIED:20200420T063950Z
UID:1622-1590741000-1590741000@www.borgwn.at
SUMMARY:Reifeprüfung Haupttermin schriftlich FRANZÖSISCH
DESCRIPTION:
URL:https://www.borgwn.at/event/reifepruefung-haupttermin-schriftlich-franzoesisch-2/
CATEGORIES:schulisch
END:VEVENT
BEGIN:VEVENT
DTSTART;TZID=Europe/Vienna:20200529T083000
DTEND;TZID=Europe/Vienna:20200529T083000
DTSTAMP:20260419T225901
CREATED:20200420T064431Z
LAST-MODIFIED:20200420T064506Z
UID:2846-1590741000-1590741000@www.borgwn.at
SUMMARY:Reifeprüfung Haupttermin schriftlich LATEIN
DESCRIPTION:
URL:https://www.borgwn.at/event/reifepruefung-haupttermin-schriftlich-latein-4/
CATEGORIES:schulisch
END:VEVENT
END:VCALENDAR