BEGIN:VCALENDAR
VERSION:2.0
PRODID:-//Borg Wiener Neustadt - ECPv6.15.20//NONSGML v1.0//EN
CALSCALE:GREGORIAN
METHOD:PUBLISH
X-WR-CALNAME:Borg Wiener Neustadt
X-ORIGINAL-URL:https://www.borgwn.at
X-WR-CALDESC:Veranstaltungen für Borg Wiener Neustadt
REFRESH-INTERVAL;VALUE=DURATION:PT1H
X-Robots-Tag:noindex
X-PUBLISHED-TTL:PT1H
BEGIN:VTIMEZONE
TZID:Europe/Vienna
BEGIN:DAYLIGHT
TZOFFSETFROM:+0100
TZOFFSETTO:+0200
TZNAME:CEST
DTSTART:20190331T010000
END:DAYLIGHT
BEGIN:STANDARD
TZOFFSETFROM:+0200
TZOFFSETTO:+0100
TZNAME:CET
DTSTART:20191027T010000
END:STANDARD
BEGIN:DAYLIGHT
TZOFFSETFROM:+0100
TZOFFSETTO:+0200
TZNAME:CEST
DTSTART:20200329T010000
END:DAYLIGHT
BEGIN:STANDARD
TZOFFSETFROM:+0200
TZOFFSETTO:+0100
TZNAME:CET
DTSTART:20201025T010000
END:STANDARD
BEGIN:DAYLIGHT
TZOFFSETFROM:+0100
TZOFFSETTO:+0200
TZNAME:CEST
DTSTART:20210328T010000
END:DAYLIGHT
BEGIN:STANDARD
TZOFFSETFROM:+0200
TZOFFSETTO:+0100
TZNAME:CET
DTSTART:20211031T010000
END:STANDARD
END:VTIMEZONE
BEGIN:VEVENT
DTSTART;VALUE=DATE:20200911
DTEND;VALUE=DATE:20200912
DTSTAMP:20260419T161631
CREATED:20200630T090848Z
LAST-MODIFIED:20200721T074257Z
UID:3014-1599782400-1599868799@www.borgwn.at
SUMMARY:Hochladen und Abgabe der VWA für den Herbsttermin
DESCRIPTION:
URL:https://www.borgwn.at/event/abgabe-der-vwa-fuer-den-herbsttermin/
CATEGORIES:schulisch
END:VEVENT
BEGIN:VEVENT
DTSTART;TZID=Europe/Vienna:20200911T131000
DTEND;TZID=Europe/Vienna:20200911T131000
DTSTAMP:20260419T161631
CREATED:20200902T071316Z
LAST-MODIFIED:20200902T071316Z
UID:3061-1599829800-1599829800@www.borgwn.at
SUMMARY:Einteilung der IU-Stunden
DESCRIPTION:
URL:https://www.borgwn.at/event/einteilung-der-iu-stunden-2/
LOCATION:Aula\, Herzog Leopold-Straße 32\, Wiener Neustadt\, 2700
CATEGORIES:schulisch
END:VEVENT
END:VCALENDAR