BEGIN:VCALENDAR
VERSION:2.0
PRODID:-//Borg Wiener Neustadt - ECPv6.15.20//NONSGML v1.0//EN
CALSCALE:GREGORIAN
METHOD:PUBLISH
X-WR-CALNAME:Borg Wiener Neustadt
X-ORIGINAL-URL:https://www.borgwn.at
X-WR-CALDESC:Veranstaltungen für Borg Wiener Neustadt
REFRESH-INTERVAL;VALUE=DURATION:PT1H
X-Robots-Tag:noindex
X-PUBLISHED-TTL:PT1H
BEGIN:VTIMEZONE
TZID:Europe/Vienna
BEGIN:DAYLIGHT
TZOFFSETFROM:+0100
TZOFFSETTO:+0200
TZNAME:CEST
DTSTART:20190331T010000
END:DAYLIGHT
BEGIN:STANDARD
TZOFFSETFROM:+0200
TZOFFSETTO:+0100
TZNAME:CET
DTSTART:20191027T010000
END:STANDARD
BEGIN:DAYLIGHT
TZOFFSETFROM:+0100
TZOFFSETTO:+0200
TZNAME:CEST
DTSTART:20200329T010000
END:DAYLIGHT
BEGIN:STANDARD
TZOFFSETFROM:+0200
TZOFFSETTO:+0100
TZNAME:CET
DTSTART:20201025T010000
END:STANDARD
BEGIN:DAYLIGHT
TZOFFSETFROM:+0100
TZOFFSETTO:+0200
TZNAME:CEST
DTSTART:20210328T010000
END:DAYLIGHT
BEGIN:STANDARD
TZOFFSETFROM:+0200
TZOFFSETTO:+0100
TZNAME:CET
DTSTART:20211031T010000
END:STANDARD
END:VTIMEZONE
BEGIN:VEVENT
DTSTART;TZID=Europe/Vienna:20201007T100000
DTEND;TZID=Europe/Vienna:20201007T100000
DTSTAMP:20260419T142324
CREATED:20191127T124739Z
LAST-MODIFIED:20200512T064540Z
UID:2199-1602064800-1602064800@www.borgwn.at
SUMMARY:Musical abgesagt
DESCRIPTION:
URL:https://www.borgwn.at/event/musical-3/
LOCATION:Stadttheater Wiener Neustadt
CATEGORIES:Veranstaltungen,wichtig
END:VEVENT
BEGIN:VEVENT
DTSTART;TZID=Europe/Vienna:20201007T170000
DTEND;TZID=Europe/Vienna:20201007T170000
DTSTAMP:20260419T142324
CREATED:20191127T124850Z
LAST-MODIFIED:20200512T064608Z
UID:2201-1602090000-1602090000@www.borgwn.at
SUMMARY:Musical abgesagt
DESCRIPTION:
URL:https://www.borgwn.at/event/musical-4/
LOCATION:Stadttheater Wiener Neustadt
CATEGORIES:Veranstaltungen,wichtig
END:VEVENT
END:VCALENDAR