BEGIN:VCALENDAR
VERSION:2.0
PRODID:-//Borg Wiener Neustadt - ECPv6.15.20//NONSGML v1.0//EN
CALSCALE:GREGORIAN
METHOD:PUBLISH
X-WR-CALNAME:Borg Wiener Neustadt
X-ORIGINAL-URL:https://www.borgwn.at
X-WR-CALDESC:Veranstaltungen für Borg Wiener Neustadt
REFRESH-INTERVAL;VALUE=DURATION:PT1H
X-Robots-Tag:noindex
X-PUBLISHED-TTL:PT1H
BEGIN:VTIMEZONE
TZID:Europe/Vienna
BEGIN:DAYLIGHT
TZOFFSETFROM:+0100
TZOFFSETTO:+0200
TZNAME:CEST
DTSTART:20190331T010000
END:DAYLIGHT
BEGIN:STANDARD
TZOFFSETFROM:+0200
TZOFFSETTO:+0100
TZNAME:CET
DTSTART:20191027T010000
END:STANDARD
BEGIN:DAYLIGHT
TZOFFSETFROM:+0100
TZOFFSETTO:+0200
TZNAME:CEST
DTSTART:20200329T010000
END:DAYLIGHT
BEGIN:STANDARD
TZOFFSETFROM:+0200
TZOFFSETTO:+0100
TZNAME:CET
DTSTART:20201025T010000
END:STANDARD
BEGIN:DAYLIGHT
TZOFFSETFROM:+0100
TZOFFSETTO:+0200
TZNAME:CEST
DTSTART:20210328T010000
END:DAYLIGHT
BEGIN:STANDARD
TZOFFSETFROM:+0200
TZOFFSETTO:+0100
TZNAME:CET
DTSTART:20211031T010000
END:STANDARD
END:VTIMEZONE
BEGIN:VEVENT
DTSTART;VALUE=DATE:20201008
DTEND;VALUE=DATE:20201009
DTSTAMP:20260419T143626
CREATED:20191107T191505Z
LAST-MODIFIED:20200108T132237Z
UID:1649-1602115200-1602201599@www.borgwn.at
SUMMARY:Kompensationsprüfung Herbsttermin
DESCRIPTION:
URL:https://www.borgwn.at/event/kompensationspruefung-herbsttermin/
CATEGORIES:schulisch
END:VEVENT
BEGIN:VEVENT
DTSTART;VALUE=DATE:20201008
DTEND;VALUE=DATE:20201011
DTSTAMP:20260419T143626
CREATED:20200619T052421Z
LAST-MODIFIED:20200619T052421Z
UID:2977-1602115200-1602374399@www.borgwn.at
SUMMARY:Fit Instruktor-Ausbildungskurs
DESCRIPTION:
URL:https://www.borgwn.at/event/fit-instruktor-ausbildungskurs-4/
CATEGORIES:schulisch
END:VEVENT
BEGIN:VEVENT
DTSTART;TZID=Europe/Vienna:20201008T100000
DTEND;TZID=Europe/Vienna:20201008T100000
DTSTAMP:20260419T143626
CREATED:20191127T125059Z
LAST-MODIFIED:20200512T064634Z
UID:2204-1602151200-1602151200@www.borgwn.at
SUMMARY:Musical abgesagt
DESCRIPTION:
URL:https://www.borgwn.at/event/musical-5/
LOCATION:Stadttheater Wiener Neustadt
CATEGORIES:Veranstaltungen,wichtig
END:VEVENT
END:VCALENDAR