BEGIN:VCALENDAR
VERSION:2.0
PRODID:-//Borg Wiener Neustadt - ECPv6.15.20//NONSGML v1.0//EN
CALSCALE:GREGORIAN
METHOD:PUBLISH
X-WR-CALNAME:Borg Wiener Neustadt
X-ORIGINAL-URL:https://www.borgwn.at
X-WR-CALDESC:Veranstaltungen für Borg Wiener Neustadt
REFRESH-INTERVAL;VALUE=DURATION:PT1H
X-Robots-Tag:noindex
X-PUBLISHED-TTL:PT1H
BEGIN:VTIMEZONE
TZID:Europe/Vienna
BEGIN:DAYLIGHT
TZOFFSETFROM:+0100
TZOFFSETTO:+0200
TZNAME:CEST
DTSTART:20190331T010000
END:DAYLIGHT
BEGIN:STANDARD
TZOFFSETFROM:+0200
TZOFFSETTO:+0100
TZNAME:CET
DTSTART:20191027T010000
END:STANDARD
BEGIN:DAYLIGHT
TZOFFSETFROM:+0100
TZOFFSETTO:+0200
TZNAME:CEST
DTSTART:20200329T010000
END:DAYLIGHT
BEGIN:STANDARD
TZOFFSETFROM:+0200
TZOFFSETTO:+0100
TZNAME:CET
DTSTART:20201025T010000
END:STANDARD
BEGIN:DAYLIGHT
TZOFFSETFROM:+0100
TZOFFSETTO:+0200
TZNAME:CEST
DTSTART:20210328T010000
END:DAYLIGHT
BEGIN:STANDARD
TZOFFSETFROM:+0200
TZOFFSETTO:+0100
TZNAME:CET
DTSTART:20211031T010000
END:STANDARD
END:VTIMEZONE
BEGIN:VEVENT
DTSTART;VALUE=DATE:20201013
DTEND;VALUE=DATE:20201014
DTSTAMP:20260419T143752
CREATED:20191211T090329Z
LAST-MODIFIED:20200924T051315Z
UID:2317-1602547200-1602633599@www.borgwn.at
SUMMARY:VWA-Präsentation Herbsttermin
DESCRIPTION:
URL:https://www.borgwn.at/event/vwa-praesentation-herbsttermin/
CATEGORIES:schulisch
END:VEVENT
BEGIN:VEVENT
DTSTART;TZID=Europe/Vienna:20201013T183000
DTEND;TZID=Europe/Vienna:20201013T183000
DTSTAMP:20260419T143752
CREATED:20200605T070415Z
LAST-MODIFIED:20200605T073710Z
UID:2957-1602613800-1602613800@www.borgwn.at
SUMMARY:Elternabend für die 5. Klassen
DESCRIPTION:
URL:https://www.borgwn.at/event/elternabend-fuer-die-5-klassen/
LOCATION:Festsaal BORG Wiener Neustadt\, Herzog Leopold-Straße 32\, Wiener Neustadt\, Österreich\, 2700
CATEGORIES:schulisch
END:VEVENT
BEGIN:VEVENT
DTSTART;TZID=Europe/Vienna:20201013T203000
DTEND;TZID=Europe/Vienna:20201013T203000
DTSTAMP:20260419T143752
CREATED:20200605T074249Z
LAST-MODIFIED:20200605T102617Z
UID:2963-1602621000-1602621000@www.borgwn.at
SUMMARY:Generalversammlung des Elternvereins
DESCRIPTION:
URL:https://www.borgwn.at/event/pruefung-fit-instruktor/
LOCATION:BORG Wiener Neustadt\, Herzog Leopold-Straße 32\, Wiener Neustadt\, Österreich\, 2700
CATEGORIES:schulisch
END:VEVENT
END:VCALENDAR