BEGIN:VCALENDAR
VERSION:2.0
PRODID:-//Borg Wiener Neustadt - ECPv6.15.20//NONSGML v1.0//EN
CALSCALE:GREGORIAN
METHOD:PUBLISH
X-ORIGINAL-URL:https://www.borgwn.at
X-WR-CALDESC:Veranstaltungen für Borg Wiener Neustadt
REFRESH-INTERVAL;VALUE=DURATION:PT1H
X-Robots-Tag:noindex
X-PUBLISHED-TTL:PT1H
BEGIN:VTIMEZONE
TZID:Europe/Vienna
BEGIN:DAYLIGHT
TZOFFSETFROM:+0100
TZOFFSETTO:+0200
TZNAME:CEST
DTSTART:20190331T010000
END:DAYLIGHT
BEGIN:STANDARD
TZOFFSETFROM:+0200
TZOFFSETTO:+0100
TZNAME:CET
DTSTART:20191027T010000
END:STANDARD
BEGIN:DAYLIGHT
TZOFFSETFROM:+0100
TZOFFSETTO:+0200
TZNAME:CEST
DTSTART:20200329T010000
END:DAYLIGHT
BEGIN:STANDARD
TZOFFSETFROM:+0200
TZOFFSETTO:+0100
TZNAME:CET
DTSTART:20201025T010000
END:STANDARD
BEGIN:DAYLIGHT
TZOFFSETFROM:+0100
TZOFFSETTO:+0200
TZNAME:CEST
DTSTART:20210328T010000
END:DAYLIGHT
BEGIN:STANDARD
TZOFFSETFROM:+0200
TZOFFSETTO:+0100
TZNAME:CET
DTSTART:20211031T010000
END:STANDARD
END:VTIMEZONE
BEGIN:VEVENT
DTSTART;VALUE=DATE:20200201
DTEND;VALUE=DATE:20200210
DTSTAMP:20260420T022148
CREATED:20191108T062454Z
LAST-MODIFIED:20200107T125836Z
UID:1709-1580515200-1581292799@www.borgwn.at
SUMMARY:Semesterferien
DESCRIPTION:
URL:https://www.borgwn.at/event/semesterferien/
CATEGORIES:schulfrei
END:VEVENT
BEGIN:VEVENT
DTSTART;TZID=Europe/Vienna:20200201T170000
DTEND;TZID=Europe/Vienna:20200201T170000
DTSTAMP:20260420T022148
CREATED:20191127T103213Z
LAST-MODIFIED:20191127T103308Z
UID:2178-1580576400-1580576400@www.borgwn.at
SUMMARY:Variacello-Konzert Klavierquartett
DESCRIPTION:
URL:https://www.borgwn.at/event/variacello-konzert-klavierquartett/
LOCATION:Festsaal BORG Wiener Neustadt\, Herzog Leopold-Straße 32\, Wiener Neustadt\, Österreich\, 2700
CATEGORIES:Veranstaltungen
END:VEVENT
BEGIN:VEVENT
DTSTART;VALUE=DATE:20200210
DTEND;VALUE=DATE:20200211
DTSTAMP:20260420T022148
CREATED:20191209T103337Z
LAST-MODIFIED:20191209T103457Z
UID:2299-1581292800-1581379199@www.borgwn.at
SUMMARY:mündliche Reifeprüfung und VWA-Präsentation Wintertermin
DESCRIPTION:
URL:https://www.borgwn.at/event/muendliche-reifepruefung-wintertermin-und-vwa-praesentation/
CATEGORIES:schulisch
END:VEVENT
BEGIN:VEVENT
DTSTART;VALUE=DATE:20200210
DTEND;VALUE=DATE:20200216
DTSTAMP:20260420T022148
CREATED:20191107T185007Z
LAST-MODIFIED:20200108T120333Z
UID:1599-1581292800-1581811199@www.borgwn.at
SUMMARY:Schikurs 6S1; 6S2 (FA)
DESCRIPTION:
URL:https://www.borgwn.at/event/schikurs-6s1-6s2-fa/
LOCATION:Saalbach-Hinterglemm
CATEGORIES:schulisch
END:VEVENT
BEGIN:VEVENT
DTSTART;VALUE=DATE:20200214
DTEND;VALUE=DATE:20200215
DTSTAMP:20260420T022148
CREATED:20191107T190520Z
LAST-MODIFIED:20191114T081621Z
UID:1637-1581638400-1581724799@www.borgwn.at
SUMMARY:Hochladen der VWA für den Haupttermin (spätester Termin!!!)
DESCRIPTION:
URL:https://www.borgwn.at/event/hochladen-der-vwa-fuer-den-haupttermin/
CATEGORIES:wichtig
END:VEVENT
BEGIN:VEVENT
DTSTART;TZID=Europe/Vienna:20200217T163000
DTEND;TZID=Europe/Vienna:20200217T163000
DTSTAMP:20260420T022148
CREATED:20191107T192536Z
LAST-MODIFIED:20200108T120500Z
UID:1687-1581957000-1581957000@www.borgwn.at
SUMMARY:Klassenabend (SD)
DESCRIPTION:
URL:https://www.borgwn.at/event/klassenabend-sd-3/
LOCATION:Festsaal BORG Wiener Neustadt\, Herzog Leopold-Straße 32\, Wiener Neustadt\, Österreich\, 2700
CATEGORIES:Veranstaltungen
END:VEVENT
BEGIN:VEVENT
DTSTART;TZID=Europe/Vienna:20200220T163000
DTEND;TZID=Europe/Vienna:20200220T163000
DTSTAMP:20260420T022148
CREATED:20191107T192536Z
LAST-MODIFIED:20200108T120535Z
UID:1688-1582216200-1582216200@www.borgwn.at
SUMMARY:Klassenabend (VF)
DESCRIPTION:
URL:https://www.borgwn.at/event/klassenabend-vf-4/
LOCATION:Festsaal BORG Wiener Neustadt\, Herzog Leopold-Straße 32\, Wiener Neustadt\, Österreich\, 2700
CATEGORIES:Veranstaltungen
END:VEVENT
BEGIN:VEVENT
DTSTART;TZID=Europe/Vienna:20200221T190000
DTEND;TZID=Europe/Vienna:20200221T190000
DTSTAMP:20260420T022148
CREATED:20200114T105113Z
LAST-MODIFIED:20200114T105113Z
UID:2476-1582311600-1582311600@www.borgwn.at
SUMMARY:Konzert der BORG.big.band
DESCRIPTION:
URL:https://www.borgwn.at/event/konzert-der-borg-big-band/
LOCATION:Festsaal BORG Wiener Neustadt\, Herzog Leopold-Straße 32\, Wiener Neustadt\, Österreich\, 2700
CATEGORIES:Veranstaltungen
END:VEVENT
BEGIN:VEVENT
DTSTART;VALUE=DATE:20200226
DTEND;VALUE=DATE:20200227
DTSTAMP:20260420T022148
CREATED:20191108T062454Z
LAST-MODIFIED:20200107T130027Z
UID:1710-1582675200-1582761599@www.borgwn.at
SUMMARY:frei lt. SGA (Päd. Tag)
DESCRIPTION:
URL:https://www.borgwn.at/event/frei-lt-sga-paed-tag/
CATEGORIES:schulfrei
END:VEVENT
BEGIN:VEVENT
DTSTART;TZID=Europe/Vienna:20200227T080000
DTEND;TZID=Europe/Vienna:20200227T080000
DTSTAMP:20260420T022148
CREATED:20191213T092303Z
LAST-MODIFIED:20191213T092303Z
UID:2326-1582790400-1582790400@www.borgwn.at
SUMMARY:musikalischer Eignungstest für die Musikschwerpunktklasse
DESCRIPTION:
URL:https://www.borgwn.at/event/musikalischer-eignungstest-fuer-die-musikschwerpunktklasse/
LOCATION:Festsaal BORG Wiener Neustadt\, Herzog Leopold-Straße 32\, Wiener Neustadt\, Österreich\, 2700
CATEGORIES:schulisch
END:VEVENT
BEGIN:VEVENT
DTSTART;VALUE=DATE:20200228
DTEND;VALUE=DATE:20200229
DTSTAMP:20260420T022148
CREATED:20191107T190412Z
LAST-MODIFIED:20191128T063159Z
UID:1635-1582848000-1582934399@www.borgwn.at
SUMMARY:Abgabe der Einreichung VWA-Datenbank (Erwartungshorizont) (spätester Termin!!!)
DESCRIPTION:
URL:https://www.borgwn.at/event/abgabe-der-einreichung-vwa-datenbank-erwartungshorizont-spaetester-termin/
CATEGORIES:wichtig
END:VEVENT
BEGIN:VEVENT
DTSTART;TZID=Europe/Vienna:20200228T080000
DTEND;TZID=Europe/Vienna:20200228T080000
DTSTAMP:20260420T022148
CREATED:20191213T092345Z
LAST-MODIFIED:20191213T092448Z
UID:2328-1582876800-1582876800@www.borgwn.at
SUMMARY:musikalischer Eignungstest für die Klasse mit Instrumentalunterricht
DESCRIPTION:
URL:https://www.borgwn.at/event/musikalischer-eignungstest-fuer-die-klasse-mit-instrumentalunterricht/
LOCATION:Festsaal BORG Wiener Neustadt\, Herzog Leopold-Straße 32\, Wiener Neustadt\, Österreich\, 2700
CATEGORIES:schulisch
END:VEVENT
END:VCALENDAR