BEGIN:VCALENDAR
VERSION:2.0
PRODID:-//Borg Wiener Neustadt - ECPv6.15.20//NONSGML v1.0//EN
CALSCALE:GREGORIAN
METHOD:PUBLISH
X-WR-CALNAME:Borg Wiener Neustadt
X-ORIGINAL-URL:https://www.borgwn.at
X-WR-CALDESC:Veranstaltungen für Borg Wiener Neustadt
REFRESH-INTERVAL;VALUE=DURATION:PT1H
X-Robots-Tag:noindex
X-PUBLISHED-TTL:PT1H
BEGIN:VTIMEZONE
TZID:Europe/Vienna
BEGIN:DAYLIGHT
TZOFFSETFROM:+0100
TZOFFSETTO:+0200
TZNAME:CEST
DTSTART:20190331T010000
END:DAYLIGHT
BEGIN:STANDARD
TZOFFSETFROM:+0200
TZOFFSETTO:+0100
TZNAME:CET
DTSTART:20191027T010000
END:STANDARD
BEGIN:DAYLIGHT
TZOFFSETFROM:+0100
TZOFFSETTO:+0200
TZNAME:CEST
DTSTART:20200329T010000
END:DAYLIGHT
BEGIN:STANDARD
TZOFFSETFROM:+0200
TZOFFSETTO:+0100
TZNAME:CET
DTSTART:20201025T010000
END:STANDARD
BEGIN:DAYLIGHT
TZOFFSETFROM:+0100
TZOFFSETTO:+0200
TZNAME:CEST
DTSTART:20210328T010000
END:DAYLIGHT
BEGIN:STANDARD
TZOFFSETFROM:+0200
TZOFFSETTO:+0100
TZNAME:CET
DTSTART:20211031T010000
END:STANDARD
END:VTIMEZONE
BEGIN:VEVENT
DTSTART;TZID=Europe/Vienna:20200302T170000
DTEND;TZID=Europe/Vienna:20200302T170000
DTSTAMP:20260420T003952
CREATED:20191127T103826Z
LAST-MODIFIED:20200217T111956Z
UID:2183-1583168400-1583168400@www.borgwn.at
SUMMARY:Klassenabend AS\, GM
DESCRIPTION:
URL:https://www.borgwn.at/event/klassenabend-as-gm/
LOCATION:Festsaal BORG Wiener Neustadt\, Herzog Leopold-Straße 32\, Wiener Neustadt\, Österreich\, 2700
CATEGORIES:schulisch
END:VEVENT
BEGIN:VEVENT
DTSTART;TZID=Europe/Vienna:20200303T131500
DTEND;TZID=Europe/Vienna:20200303T131500
DTSTAMP:20260420T003952
CREATED:20191107T185008Z
LAST-MODIFIED:20191107T185008Z
UID:1600-1583241300-1583241300@www.borgwn.at
SUMMARY:Vernetzungstreffen
DESCRIPTION:
URL:https://www.borgwn.at/event/vernetzungstreffen-7/
CATEGORIES:schulisch
END:VEVENT
BEGIN:VEVENT
DTSTART;TZID=Europe/Vienna:20200303T190000
DTEND;TZID=Europe/Vienna:20200303T190000
DTSTAMP:20260420T003952
CREATED:20200217T155050Z
LAST-MODIFIED:20200217T155050Z
UID:2605-1583262000-1583262000@www.borgwn.at
SUMMARY:Sitzung des Elternvereins
DESCRIPTION:
URL:https://www.borgwn.at/event/sitzung-des-elternvereins/
LOCATION:Hilton Garden Inn\, Promenade 6\, Wiener Neustadt\, 2700\, Österreich
CATEGORIES:Veranstaltungen
END:VEVENT
BEGIN:VEVENT
DTSTART;TZID=Europe/Vienna:20200304T113000
DTEND;TZID=Europe/Vienna:20200304T113000
DTSTAMP:20260420T003952
CREATED:20200129T053613Z
LAST-MODIFIED:20200129T053613Z
UID:2568-1583321400-1583321400@www.borgwn.at
SUMMARY:ice2ice (Vortrag mit Michael Strasser)\, Sportklassen
DESCRIPTION:
URL:https://www.borgwn.at/event/ice2ice-vortrag-mit-michael-strasser-sportklassen/
LOCATION:Festsaal BORG Wiener Neustadt\, Herzog Leopold-Straße 32\, Wiener Neustadt\, Österreich\, 2700
CATEGORIES:schulisch
END:VEVENT
BEGIN:VEVENT
DTSTART;VALUE=DATE:20200306
DTEND;VALUE=DATE:20200307
DTSTAMP:20260420T003952
CREATED:20200302T085029Z
LAST-MODIFIED:20200302T085201Z
UID:2691-1583452800-1583539199@www.borgwn.at
SUMMARY:Veranstaltung zum Frauentag
DESCRIPTION:
URL:https://www.borgwn.at/event/veranstaltung-zum-frauentag-2/
LOCATION:Festsaal BORG Wiener Neustadt\, Herzog Leopold-Straße 32\, Wiener Neustadt\, Österreich\, 2700
CATEGORIES:Veranstaltungen
END:VEVENT
BEGIN:VEVENT
DTSTART;VALUE=DATE:20200307
DTEND;VALUE=DATE:20200308
DTSTAMP:20260420T003952
CREATED:20200302T084939Z
LAST-MODIFIED:20200302T085243Z
UID:2689-1583539200-1583625599@www.borgwn.at
SUMMARY:Veranstaltung zum Frauentag
DESCRIPTION:
URL:https://www.borgwn.at/event/veranstaltung-zum-frauentag/
LOCATION:Festsaal BORG Wiener Neustadt\, Herzog Leopold-Straße 32\, Wiener Neustadt\, Österreich\, 2700
CATEGORIES:Veranstaltungen
END:VEVENT
BEGIN:VEVENT
DTSTART;VALUE=DATE:20200308
DTEND;VALUE=DATE:20200315
DTSTAMP:20260420T003952
CREATED:20191107T185008Z
LAST-MODIFIED:20200108T121614Z
UID:1601-1583625600-1584230399@www.borgwn.at
SUMMARY:Schikurs 7S1; 7S2 (TE)
DESCRIPTION:
URL:https://www.borgwn.at/event/schikurs-7s1-7s2-te/
LOCATION:Obertauern
CATEGORIES:schulisch
END:VEVENT
BEGIN:VEVENT
DTSTART;TZID=Europe/Vienna:20200313T193000
DTEND;TZID=Europe/Vienna:20200313T193000
DTSTAMP:20260420T003952
CREATED:20191107T192537Z
LAST-MODIFIED:20200420T064827Z
UID:1689-1584127800-1584127800@www.borgwn.at
SUMMARY:Konzert mit Caleidoscope abgesagt
DESCRIPTION:
URL:https://www.borgwn.at/event/konzert-mit-caleidoscope/
LOCATION:Festsaal BORG Wiener Neustadt\, Herzog Leopold-Straße 32\, Wiener Neustadt\, Österreich\, 2700
CATEGORIES:Veranstaltungen
END:VEVENT
BEGIN:VEVENT
DTSTART;TZID=Europe/Vienna:20200314T170000
DTEND;TZID=Europe/Vienna:20200314T170000
DTSTAMP:20260420T003952
CREATED:20191127T105405Z
LAST-MODIFIED:20200420T064909Z
UID:2185-1584205200-1584205200@www.borgwn.at
SUMMARY:Variacello-Konzert Barocktrio abgesagt
DESCRIPTION:
URL:https://www.borgwn.at/event/variacello-konzert-barocktrio/
LOCATION:Festsaal BORG Wiener Neustadt\, Herzog Leopold-Straße 32\, Wiener Neustadt\, Österreich\, 2700
CATEGORIES:Veranstaltungen
END:VEVENT
BEGIN:VEVENT
DTSTART;VALUE=DATE:20200321
DTEND;VALUE=DATE:20200322
DTSTAMP:20260420T003952
CREATED:20200316T102954Z
LAST-MODIFIED:20200316T103106Z
UID:2788-1584748800-1584835199@www.borgwn.at
SUMMARY:Borgkonzert verschoben auf 06.06.2020
DESCRIPTION:
URL:https://www.borgwn.at/event/borgkonzert-verschoben-auf-06-06-2020/
LOCATION:Stadttheater Wiener Neustadt
CATEGORIES:schulisch
END:VEVENT
BEGIN:VEVENT
DTSTART;TZID=Europe/Vienna:20200321T180000
DTEND;TZID=Europe/Vienna:20200321T180000
DTSTAMP:20260420T003952
CREATED:20191107T192537Z
LAST-MODIFIED:20200304T064635Z
UID:1691-1584813600-1584813600@www.borgwn.at
SUMMARY:Absolvententreffen wegen der aktuellen Ereignisse abgesagt!
DESCRIPTION:
URL:https://www.borgwn.at/event/absolvententreffen-3/
LOCATION:BORG Wiener Neustadt\, Herzog Leopold-Straße 32\, Wiener Neustadt\, Österreich\, 2700
CATEGORIES:schulisch,wichtig
END:VEVENT
BEGIN:VEVENT
DTSTART;VALUE=DATE:20200322
DTEND;VALUE=DATE:20200329
DTSTAMP:20260420T003952
CREATED:20191107T185010Z
LAST-MODIFIED:20200420T064725Z
UID:1604-1584835200-1585439999@www.borgwn.at
SUMMARY:Schikurs 5. Klassen (außer Sportklassen) (STH; WR) abgesagt
DESCRIPTION:
URL:https://www.borgwn.at/event/schikurs-5-klassen-ausser-sportklassen-sth-wr/
LOCATION:Obertauern
CATEGORIES:schulisch
END:VEVENT
BEGIN:VEVENT
DTSTART;VALUE=DATE:20200326
DTEND;VALUE=DATE:20200404
DTSTAMP:20260420T003952
CREATED:20191107T185011Z
LAST-MODIFIED:20200108T113031Z
UID:1605-1585180800-1585958399@www.borgwn.at
SUMMARY:Sprachreise; 6N1; 6S2 (SCH;PR)
DESCRIPTION:
URL:https://www.borgwn.at/event/sprachreise-6n1-6s2-schpr/
LOCATION:Exeter und London\, Großbritannien (Vereinigtes Königreich)
CATEGORIES:schulisch
END:VEVENT
BEGIN:VEVENT
DTSTART;VALUE=DATE:20200327
DTEND;VALUE=DATE:20200403
DTSTAMP:20260420T003952
CREATED:20191107T185011Z
LAST-MODIFIED:20200108T122813Z
UID:1606-1585267200-1585871999@www.borgwn.at
SUMMARY:Sprachreise 6I2 (SJ; MAL)
DESCRIPTION:
URL:https://www.borgwn.at/event/sprachreise-6i2-sj-mal/
LOCATION:Worthing\, Großbritannien (Vereinigtes Königreich)
CATEGORIES:schulisch
END:VEVENT
BEGIN:VEVENT
DTSTART;VALUE=DATE:20200327
DTEND;VALUE=DATE:20200404
DTSTAMP:20260420T003952
CREATED:20191107T185012Z
LAST-MODIFIED:20200108T122928Z
UID:1607-1585267200-1585958399@www.borgwn.at
SUMMARY:Sprachreise; 6I1; 6M1 (K; A)
DESCRIPTION:
URL:https://www.borgwn.at/event/sprachreise-6i1-6m1-k-a/
LOCATION:York\, Großbritannien (Vereinigtes Königreich)
CATEGORIES:schulisch
END:VEVENT
BEGIN:VEVENT
DTSTART;VALUE=DATE:20200327
DTEND;VALUE=DATE:20200404
DTSTAMP:20260420T003952
CREATED:20191107T185012Z
LAST-MODIFIED:20200108T122854Z
UID:1608-1585267200-1585958399@www.borgwn.at
SUMMARY:Sprachreise 6N2; 6S1 (ZO; ST)
DESCRIPTION:
URL:https://www.borgwn.at/event/sprachreise-6n2-6s1-zo-st/
LOCATION:Malta
CATEGORIES:schulisch
END:VEVENT
END:VCALENDAR