BEGIN:VCALENDAR
VERSION:2.0
PRODID:-//Borg Wiener Neustadt - ECPv6.15.20//NONSGML v1.0//EN
CALSCALE:GREGORIAN
METHOD:PUBLISH
X-ORIGINAL-URL:https://www.borgwn.at
X-WR-CALDESC:Veranstaltungen für Borg Wiener Neustadt
REFRESH-INTERVAL;VALUE=DURATION:PT1H
X-Robots-Tag:noindex
X-PUBLISHED-TTL:PT1H
BEGIN:VTIMEZONE
TZID:Europe/Vienna
BEGIN:DAYLIGHT
TZOFFSETFROM:+0100
TZOFFSETTO:+0200
TZNAME:CEST
DTSTART:20190331T010000
END:DAYLIGHT
BEGIN:STANDARD
TZOFFSETFROM:+0200
TZOFFSETTO:+0100
TZNAME:CET
DTSTART:20191027T010000
END:STANDARD
BEGIN:DAYLIGHT
TZOFFSETFROM:+0100
TZOFFSETTO:+0200
TZNAME:CEST
DTSTART:20200329T010000
END:DAYLIGHT
BEGIN:STANDARD
TZOFFSETFROM:+0200
TZOFFSETTO:+0100
TZNAME:CET
DTSTART:20201025T010000
END:STANDARD
BEGIN:DAYLIGHT
TZOFFSETFROM:+0100
TZOFFSETTO:+0200
TZNAME:CEST
DTSTART:20210328T010000
END:DAYLIGHT
BEGIN:STANDARD
TZOFFSETFROM:+0200
TZOFFSETTO:+0100
TZNAME:CET
DTSTART:20211031T010000
END:STANDARD
END:VTIMEZONE
BEGIN:VEVENT
DTSTART;VALUE=DATE:20200326
DTEND;VALUE=DATE:20200404
DTSTAMP:20260419T230125
CREATED:20191107T185011Z
LAST-MODIFIED:20200108T113031Z
UID:1605-1585180800-1585958399@www.borgwn.at
SUMMARY:Sprachreise; 6N1; 6S2 (SCH;PR)
DESCRIPTION:
URL:https://www.borgwn.at/event/sprachreise-6n1-6s2-schpr/
LOCATION:Exeter und London\, Großbritannien (Vereinigtes Königreich)
CATEGORIES:schulisch
END:VEVENT
BEGIN:VEVENT
DTSTART;VALUE=DATE:20200327
DTEND;VALUE=DATE:20200403
DTSTAMP:20260419T230125
CREATED:20191107T185011Z
LAST-MODIFIED:20200108T122813Z
UID:1606-1585267200-1585871999@www.borgwn.at
SUMMARY:Sprachreise 6I2 (SJ; MAL)
DESCRIPTION:
URL:https://www.borgwn.at/event/sprachreise-6i2-sj-mal/
LOCATION:Worthing\, Großbritannien (Vereinigtes Königreich)
CATEGORIES:schulisch
END:VEVENT
BEGIN:VEVENT
DTSTART;VALUE=DATE:20200327
DTEND;VALUE=DATE:20200404
DTSTAMP:20260419T230125
CREATED:20191107T185012Z
LAST-MODIFIED:20200108T122928Z
UID:1607-1585267200-1585958399@www.borgwn.at
SUMMARY:Sprachreise; 6I1; 6M1 (K; A)
DESCRIPTION:
URL:https://www.borgwn.at/event/sprachreise-6i1-6m1-k-a/
LOCATION:York\, Großbritannien (Vereinigtes Königreich)
CATEGORIES:schulisch
END:VEVENT
BEGIN:VEVENT
DTSTART;VALUE=DATE:20200327
DTEND;VALUE=DATE:20200404
DTSTAMP:20260419T230125
CREATED:20191107T185012Z
LAST-MODIFIED:20200108T122854Z
UID:1608-1585267200-1585958399@www.borgwn.at
SUMMARY:Sprachreise 6N2; 6S1 (ZO; ST)
DESCRIPTION:
URL:https://www.borgwn.at/event/sprachreise-6n2-6s1-zo-st/
LOCATION:Malta
CATEGORIES:schulisch
END:VEVENT
BEGIN:VEVENT
DTSTART;VALUE=DATE:20200404
DTEND;VALUE=DATE:20200415
DTSTAMP:20260419T230125
CREATED:20191108T062455Z
LAST-MODIFIED:20200108T123352Z
UID:1711-1585958400-1586908799@www.borgwn.at
SUMMARY:Osterferien
DESCRIPTION:
URL:https://www.borgwn.at/event/osterferien-2/
CATEGORIES:schulfrei
END:VEVENT
BEGIN:VEVENT
DTSTART;TZID=Europe/Vienna:20200414T190000
DTEND;TZID=Europe/Vienna:20200414T190000
DTSTAMP:20260419T230125
CREATED:20200310T072803Z
LAST-MODIFIED:20200310T072803Z
UID:2774-1586890800-1586890800@www.borgwn.at
SUMMARY:Elternverein Sitzung
DESCRIPTION:
URL:https://www.borgwn.at/event/elternverein-sitzung/
LOCATION:Hilton Garden Inn\, Promenade 6\, Wiener Neustadt\, 2700\, Österreich
END:VEVENT
BEGIN:VEVENT
DTSTART;VALUE=DATE:20200420
DTEND;VALUE=DATE:20200423
DTSTAMP:20260419T230125
CREATED:20191107T185013Z
LAST-MODIFIED:20200420T065142Z
UID:1611-1587340800-1587599999@www.borgwn.at
SUMMARY:MoRaH (ZB; HUS; WR; KM) abgesagt
DESCRIPTION:
URL:https://www.borgwn.at/event/morah-zb-hus-wr-km/
LOCATION:Polen
CATEGORIES:schulisch
END:VEVENT
BEGIN:VEVENT
DTSTART;VALUE=DATE:20200422
DTEND;VALUE=DATE:20200509
DTSTAMP:20260419T230125
CREATED:20200422T055801Z
LAST-MODIFIED:20200422T060656Z
UID:2861-1587513600-1588982399@www.borgwn.at
SUMMARY:Anmeldung zur Feststellungsprüfung 8. Klassen
DESCRIPTION:
URL:https://www.borgwn.at/event/anmeldung-zur-feststellungspruefung/
CATEGORIES:schulisch
END:VEVENT
BEGIN:VEVENT
DTSTART;TZID=Europe/Vienna:20200425T170000
DTEND;TZID=Europe/Vienna:20200425T170000
DTSTAMP:20260419T230125
CREATED:20191127T105600Z
LAST-MODIFIED:20200420T065310Z
UID:2187-1587834000-1587834000@www.borgwn.at
SUMMARY:Variacello-Konzert Cello und Kontrabass abgesagt
DESCRIPTION:
URL:https://www.borgwn.at/event/variacello-konzert-cello-und-kontrabass/
LOCATION:Festsaal BORG Wiener Neustadt\, Herzog Leopold-Straße 32\, Wiener Neustadt\, Österreich\, 2700
CATEGORIES:Veranstaltungen
END:VEVENT
BEGIN:VEVENT
DTSTART;TZID=Europe/Vienna:20200425T203000
DTEND;TZID=Europe/Vienna:20200425T203000
DTSTAMP:20260419T230125
CREATED:20191107T193259Z
LAST-MODIFIED:20230917T002746Z
UID:1696-1587846600-1587846600@www.borgwn.at
SUMMARY:Borgball abgesagt
DESCRIPTION:
URL:https://www.borgwn.at/event/borgball-einlass-1930/
LOCATION:Sparkassensaal
CATEGORIES:Veranstaltungen,wichtig
END:VEVENT
END:VCALENDAR