BEGIN:VCALENDAR
VERSION:2.0
PRODID:-//Borg Wiener Neustadt - ECPv6.15.20//NONSGML v1.0//EN
CALSCALE:GREGORIAN
METHOD:PUBLISH
X-WR-CALNAME:Borg Wiener Neustadt
X-ORIGINAL-URL:https://www.borgwn.at
X-WR-CALDESC:Veranstaltungen für Borg Wiener Neustadt
REFRESH-INTERVAL;VALUE=DURATION:PT1H
X-Robots-Tag:noindex
X-PUBLISHED-TTL:PT1H
BEGIN:VTIMEZONE
TZID:Europe/Vienna
BEGIN:DAYLIGHT
TZOFFSETFROM:+0100
TZOFFSETTO:+0200
TZNAME:CEST
DTSTART:20190331T010000
END:DAYLIGHT
BEGIN:STANDARD
TZOFFSETFROM:+0200
TZOFFSETTO:+0100
TZNAME:CET
DTSTART:20191027T010000
END:STANDARD
BEGIN:DAYLIGHT
TZOFFSETFROM:+0100
TZOFFSETTO:+0200
TZNAME:CEST
DTSTART:20200329T010000
END:DAYLIGHT
BEGIN:STANDARD
TZOFFSETFROM:+0200
TZOFFSETTO:+0100
TZNAME:CET
DTSTART:20201025T010000
END:STANDARD
BEGIN:DAYLIGHT
TZOFFSETFROM:+0100
TZOFFSETTO:+0200
TZNAME:CEST
DTSTART:20210328T010000
END:DAYLIGHT
BEGIN:STANDARD
TZOFFSETFROM:+0200
TZOFFSETTO:+0100
TZNAME:CET
DTSTART:20211031T010000
END:STANDARD
END:VTIMEZONE
BEGIN:VEVENT
DTSTART;VALUE=DATE:20200422
DTEND;VALUE=DATE:20200509
DTSTAMP:20260419T212209
CREATED:20200422T055801Z
LAST-MODIFIED:20200422T060656Z
UID:2861-1587513600-1588982399@www.borgwn.at
SUMMARY:Anmeldung zur Feststellungsprüfung 8. Klassen
DESCRIPTION:
URL:https://www.borgwn.at/event/anmeldung-zur-feststellungspruefung/
CATEGORIES:schulisch
END:VEVENT
BEGIN:VEVENT
DTSTART;VALUE=DATE:20200501
DTEND;VALUE=DATE:20200502
DTSTAMP:20260419T212209
CREATED:20191108T062455Z
LAST-MODIFIED:20200108T124230Z
UID:1712-1588291200-1588377599@www.borgwn.at
SUMMARY:Staatsfeiertag
DESCRIPTION:
URL:https://www.borgwn.at/event/staatsfeiertag-2/
CATEGORIES:schulfrei
END:VEVENT
BEGIN:VEVENT
DTSTART;VALUE=DATE:20200508
DTEND;VALUE=DATE:20200509
DTSTAMP:20260419T212209
CREATED:20200420T071703Z
LAST-MODIFIED:20200420T071703Z
UID:2859-1588896000-1588982399@www.borgwn.at
SUMMARY:Basistest und Spieleparcour Sportmatura verschoben
DESCRIPTION:
URL:https://www.borgwn.at/event/basistest-und-spieleparcour-sportmatura-verschoben/
CATEGORIES:schulisch
END:VEVENT
BEGIN:VEVENT
DTSTART;VALUE=DATE:20200519
DTEND;VALUE=DATE:20200520
DTSTAMP:20260419T212209
CREATED:20191107T185019Z
LAST-MODIFIED:20200420T065819Z
UID:1625-1589846400-1589932799@www.borgwn.at
SUMMARY:Spezialisierungs- und Grundlagenprüfungen Sportmatura verschoben
DESCRIPTION:
URL:https://www.borgwn.at/event/spezialisierungs-und-grundlagenpruefungen-sportmatura-2/
CATEGORIES:schulisch
END:VEVENT
BEGIN:VEVENT
DTSTART;VALUE=DATE:20200520
DTEND;VALUE=DATE:20200521
DTSTAMP:20260419T212209
CREATED:20191107T185013Z
LAST-MODIFIED:20200422T063653Z
UID:1613-1589932800-1590019199@www.borgwn.at
SUMMARY:Beurteilungskonferenz 8. Klassen
DESCRIPTION:
URL:https://www.borgwn.at/event/konferenz-8-klassen-2/
CATEGORIES:schulisch
END:VEVENT
BEGIN:VEVENT
DTSTART;VALUE=DATE:20200520
DTEND;VALUE=DATE:20200521
DTSTAMP:20260419T212209
CREATED:20200422T081711Z
LAST-MODIFIED:20200422T081741Z
UID:2884-1589932800-1590019199@www.borgwn.at
SUMMARY:spätestmöglicher Termin für die Abmeldung von der Reifeprüfung Haupttermin
DESCRIPTION:
URL:https://www.borgwn.at/event/spaetestmoegliche-abmeldung-von-der-reifepruefung-haupttermin/
CATEGORIES:schulisch
END:VEVENT
BEGIN:VEVENT
DTSTART;VALUE=DATE:20200521
DTEND;VALUE=DATE:20200522
DTSTAMP:20260419T212209
CREATED:20191108T062455Z
LAST-MODIFIED:20200108T125118Z
UID:1713-1590019200-1590105599@www.borgwn.at
SUMMARY:Christi Himmelfahrt
DESCRIPTION:
URL:https://www.borgwn.at/event/christi-himmelfahrt-2/
CATEGORIES:schulfrei
END:VEVENT
BEGIN:VEVENT
DTSTART;VALUE=DATE:20200522
DTEND;VALUE=DATE:20200523
DTSTAMP:20260419T212209
CREATED:20191107T185015Z
LAST-MODIFIED:20200422T063431Z
UID:1615-1590105600-1590191999@www.borgwn.at
SUMMARY:letzter Tag des Ergänzungsunterrichts der 8. Klassen
DESCRIPTION:
URL:https://www.borgwn.at/event/letzter-schultag-8-klassen-2/
CATEGORIES:schulisch
END:VEVENT
BEGIN:VEVENT
DTSTART;VALUE=DATE:20200525
DTEND;VALUE=DATE:20200526
DTSTAMP:20260419T212209
CREATED:20200422T081944Z
LAST-MODIFIED:20200422T081944Z
UID:2887-1590364800-1590451199@www.borgwn.at
SUMMARY:spätestmöglicher Termin für die Antragstellung auf mündliche Reifeprüfung oder Präsentation der VWA
DESCRIPTION:
URL:https://www.borgwn.at/event/spaetestmoeglicher-termin-fuer-die-antragstellung-auf-muendliche-reifepruefung-oder-praesentation-der-vwa/
CATEGORIES:schulisch
END:VEVENT
BEGIN:VEVENT
DTSTART;TZID=Europe/Vienna:20200526T083000
DTEND;TZID=Europe/Vienna:20200526T083000
DTSTAMP:20260419T212209
CREATED:20191107T185016Z
LAST-MODIFIED:20200420T063826Z
UID:1618-1590481800-1590481800@www.borgwn.at
SUMMARY:Reifeprüfung Haupttermin schriftlich DEUTSCH
DESCRIPTION:
URL:https://www.borgwn.at/event/reifepruefung-haupttermin-schriftlich-deutsch-2/
CATEGORIES:schulisch
END:VEVENT
BEGIN:VEVENT
DTSTART;VALUE=DATE:20200527
DTEND;VALUE=DATE:20200531
DTSTAMP:20260419T212209
CREATED:20191209T131845Z
LAST-MODIFIED:20191209T131845Z
UID:2302-1590537600-1590883199@www.borgwn.at
SUMMARY:Fit Instruktor-Ausbildungskurs
DESCRIPTION:
URL:https://www.borgwn.at/event/fit-instruktor-ausbildungskurs/
LOCATION:Güssing
CATEGORIES:schulisch
END:VEVENT
BEGIN:VEVENT
DTSTART;TZID=Europe/Vienna:20200527T083000
DTEND;TZID=Europe/Vienna:20200527T083000
DTSTAMP:20260419T212209
CREATED:20191107T185016Z
LAST-MODIFIED:20200420T063739Z
UID:1619-1590568200-1590568200@www.borgwn.at
SUMMARY:Reifeprüfung Haupttermin schriftlich ENGLISCH
DESCRIPTION:
URL:https://www.borgwn.at/event/reifepruefung-haupttermin-schriftlich-englisch-2/
CATEGORIES:schulisch
END:VEVENT
BEGIN:VEVENT
DTSTART;TZID=Europe/Vienna:20200528T083000
DTEND;TZID=Europe/Vienna:20200528T083000
DTSTAMP:20260419T212209
CREATED:20191107T185015Z
LAST-MODIFIED:20200420T063920Z
UID:1617-1590654600-1590654600@www.borgwn.at
SUMMARY:Reifeprüfung Haupttermin schriftlich MATHEMATIK
DESCRIPTION:
URL:https://www.borgwn.at/event/reifepruefung-haupttermin-schriftlich-mathematik-2/
CATEGORIES:schulisch
END:VEVENT
BEGIN:VEVENT
DTSTART;TZID=Europe/Vienna:20200529T083000
DTEND;TZID=Europe/Vienna:20200529T083000
DTSTAMP:20260419T212209
CREATED:20191107T185017Z
LAST-MODIFIED:20200420T063950Z
UID:1622-1590741000-1590741000@www.borgwn.at
SUMMARY:Reifeprüfung Haupttermin schriftlich FRANZÖSISCH
DESCRIPTION:
URL:https://www.borgwn.at/event/reifepruefung-haupttermin-schriftlich-franzoesisch-2/
CATEGORIES:schulisch
END:VEVENT
BEGIN:VEVENT
DTSTART;TZID=Europe/Vienna:20200529T083000
DTEND;TZID=Europe/Vienna:20200529T083000
DTSTAMP:20260419T212209
CREATED:20200420T064431Z
LAST-MODIFIED:20200420T064506Z
UID:2846-1590741000-1590741000@www.borgwn.at
SUMMARY:Reifeprüfung Haupttermin schriftlich LATEIN
DESCRIPTION:
URL:https://www.borgwn.at/event/reifepruefung-haupttermin-schriftlich-latein-4/
CATEGORIES:schulisch
END:VEVENT
BEGIN:VEVENT
DTSTART;VALUE=DATE:20200530
DTEND;VALUE=DATE:20200603
DTSTAMP:20260419T212209
CREATED:20191108T062456Z
LAST-MODIFIED:20200108T125230Z
UID:1714-1590796800-1591142399@www.borgwn.at
SUMMARY:Pfingstferien
DESCRIPTION:
URL:https://www.borgwn.at/event/pfingstferien-2/
CATEGORIES:schulfrei
END:VEVENT
END:VCALENDAR