BEGIN:VCALENDAR
VERSION:2.0
PRODID:-//Borg Wiener Neustadt - ECPv6.15.20//NONSGML v1.0//EN
CALSCALE:GREGORIAN
METHOD:PUBLISH
X-ORIGINAL-URL:https://www.borgwn.at
X-WR-CALDESC:Veranstaltungen für Borg Wiener Neustadt
REFRESH-INTERVAL;VALUE=DURATION:PT1H
X-Robots-Tag:noindex
X-PUBLISHED-TTL:PT1H
BEGIN:VTIMEZONE
TZID:Europe/Vienna
BEGIN:DAYLIGHT
TZOFFSETFROM:+0100
TZOFFSETTO:+0200
TZNAME:CEST
DTSTART:20190331T010000
END:DAYLIGHT
BEGIN:STANDARD
TZOFFSETFROM:+0200
TZOFFSETTO:+0100
TZNAME:CET
DTSTART:20191027T010000
END:STANDARD
BEGIN:DAYLIGHT
TZOFFSETFROM:+0100
TZOFFSETTO:+0200
TZNAME:CEST
DTSTART:20200329T010000
END:DAYLIGHT
BEGIN:STANDARD
TZOFFSETFROM:+0200
TZOFFSETTO:+0100
TZNAME:CET
DTSTART:20201025T010000
END:STANDARD
BEGIN:DAYLIGHT
TZOFFSETFROM:+0100
TZOFFSETTO:+0200
TZNAME:CEST
DTSTART:20210328T010000
END:DAYLIGHT
BEGIN:STANDARD
TZOFFSETFROM:+0200
TZOFFSETTO:+0100
TZNAME:CET
DTSTART:20211031T010000
END:STANDARD
END:VTIMEZONE
BEGIN:VEVENT
DTSTART;VALUE=DATE:20200530
DTEND;VALUE=DATE:20200603
DTSTAMP:20260419T194929
CREATED:20191108T062456Z
LAST-MODIFIED:20200108T125230Z
UID:1714-1590796800-1591142399@www.borgwn.at
SUMMARY:Pfingstferien
DESCRIPTION:
URL:https://www.borgwn.at/event/pfingstferien-2/
CATEGORIES:schulfrei
END:VEVENT
BEGIN:VEVENT
DTSTART;TZID=Europe/Vienna:20200603T083000
DTEND;TZID=Europe/Vienna:20200603T083000
DTSTAMP:20260419T194929
CREATED:20191107T185018Z
LAST-MODIFIED:20200420T064031Z
UID:1624-1591173000-1591173000@www.borgwn.at
SUMMARY:Reifeprüfung Haupttermin schriftlich ITALIENISCH
DESCRIPTION:
URL:https://www.borgwn.at/event/reifepruefung-haupttermin-schriftlich-italienisch-2/
CATEGORIES:schulisch
END:VEVENT
BEGIN:VEVENT
DTSTART;TZID=Europe/Vienna:20200606T000000
DTEND;TZID=Europe/Vienna:20200606T000000
DTSTAMP:20260419T194929
CREATED:20191107T192537Z
LAST-MODIFIED:20200415T040349Z
UID:1690-1591401600-1591401600@www.borgwn.at
SUMMARY:Jahreskonzert "Helden\, Mythen und Legenden" abgesagt
DESCRIPTION:
URL:https://www.borgwn.at/event/jahreskonzert/
LOCATION:Stadttheater Wiener Neustadt
CATEGORIES:Veranstaltungen,wichtig
END:VEVENT
BEGIN:VEVENT
DTSTART;VALUE=DATE:20200608
DTEND;VALUE=DATE:20200609
DTSTAMP:20260419T194929
CREATED:20200422T061754Z
LAST-MODIFIED:20200422T061754Z
UID:2867-1591574400-1591660799@www.borgwn.at
SUMMARY:Zwischenkonferenz Reifeprüfung
DESCRIPTION:
URL:https://www.borgwn.at/event/zwischenkonferenz-reifepruefung/
CATEGORIES:schulisch
END:VEVENT
BEGIN:VEVENT
DTSTART;VALUE=DATE:20200608
DTEND;VALUE=DATE:20200611
DTSTAMP:20260419T194929
CREATED:20200422T060217Z
LAST-MODIFIED:20200422T060237Z
UID:2864-1591574400-1591833599@www.borgwn.at
SUMMARY:Antrag auf Kompensationsprüfung
DESCRIPTION:
URL:https://www.borgwn.at/event/antrag-auf-kompensationspruefung/
CATEGORIES:schulisch
END:VEVENT
BEGIN:VEVENT
DTSTART;VALUE=DATE:20200608
DTEND;VALUE=DATE:20200614
DTSTAMP:20260419T194929
CREATED:20200117T123731Z
LAST-MODIFIED:20200619T083730Z
UID:2488-1591574400-1592092799@www.borgwn.at
SUMMARY:NAWI-Woche 7N1\, 7N2 (AR\, PM\, STI) abgesagt
DESCRIPTION:
URL:https://www.borgwn.at/event/nawi-woche/
LOCATION:Mali Losinj\, Mali Losinj\, Kroatien
CATEGORIES:schulisch
END:VEVENT
BEGIN:VEVENT
DTSTART;TZID=Europe/Vienna:20200609T131500
DTEND;TZID=Europe/Vienna:20200609T131500
DTSTAMP:20260419T194929
CREATED:20191107T185019Z
LAST-MODIFIED:20191107T185019Z
UID:1627-1591708500-1591708500@www.borgwn.at
SUMMARY:Vernetzungstreffen
DESCRIPTION:
URL:https://www.borgwn.at/event/vernetzungstreffen-9/
CATEGORIES:schulisch
END:VEVENT
BEGIN:VEVENT
DTSTART;TZID=Europe/Vienna:20200609T193000
DTEND;TZID=Europe/Vienna:20200609T193000
DTSTAMP:20260419T194929
CREATED:20200304T113331Z
LAST-MODIFIED:20200520T071924Z
UID:2725-1591731000-1591731000@www.borgwn.at
SUMMARY:Benefizkonzert für Aktion Mitmensch mit Constantin Luger abgesagt
DESCRIPTION:
URL:https://www.borgwn.at/event/benefizkonzert-fuer-aktion-mitmensch-mit-constantin-luger/
LOCATION:Festsaal BORG Wiener Neustadt\, Herzog Leopold-Straße 32\, Wiener Neustadt\, Österreich\, 2700
CATEGORIES:Veranstaltungen
END:VEVENT
BEGIN:VEVENT
DTSTART;VALUE=DATE:20200611
DTEND;VALUE=DATE:20200612
DTSTAMP:20260419T194929
CREATED:20191108T062456Z
LAST-MODIFIED:20200108T125247Z
UID:1715-1591833600-1591919999@www.borgwn.at
SUMMARY:Fronleichnam
DESCRIPTION:
URL:https://www.borgwn.at/event/fronleichnam-2/
CATEGORIES:schulfrei
END:VEVENT
BEGIN:VEVENT
DTSTART;TZID=Europe/Vienna:20200620T170000
DTEND;TZID=Europe/Vienna:20200620T170000
DTSTAMP:20260419T194929
CREATED:20191127T105737Z
LAST-MODIFIED:20200520T071831Z
UID:2189-1592672400-1592672400@www.borgwn.at
SUMMARY:Variacello-Konzert Streichquintett abgesagt
DESCRIPTION:
URL:https://www.borgwn.at/event/variacello-konzert-streichquintett/
LOCATION:Festsaal BORG Wiener Neustadt\, Herzog Leopold-Straße 32\, Wiener Neustadt\, Österreich\, 2700
CATEGORIES:Veranstaltungen
END:VEVENT
BEGIN:VEVENT
DTSTART;VALUE=DATE:20200622
DTEND;VALUE=DATE:20200623
DTSTAMP:20260419T194929
CREATED:20200527T072704Z
LAST-MODIFIED:20200527T073023Z
UID:2936-1592784000-1592870399@www.borgwn.at
SUMMARY:mündliche Reifeprüfung und Präsentation der VWA Haupttermin
DESCRIPTION:
URL:https://www.borgwn.at/event/muendliche-reifepruefung-und-praesentation-der-vwa/
LOCATION:BORG Wiener Neustadt\, Herzog Leopold-Straße 32\, Wiener Neustadt\, Österreich\, 2700
CATEGORIES:schulisch
END:VEVENT
BEGIN:VEVENT
DTSTART;VALUE=DATE:20200623
DTEND;VALUE=DATE:20200624
DTSTAMP:20260419T194929
CREATED:20191107T185020Z
LAST-MODIFIED:20200619T083015Z
UID:1628-1592870400-1592956799@www.borgwn.at
SUMMARY:BORG FUN RUN abgesagt
DESCRIPTION:
URL:https://www.borgwn.at/event/borg-fun-run/
CATEGORIES:schulisch
END:VEVENT
BEGIN:VEVENT
DTSTART;VALUE=DATE:20200623
DTEND;VALUE=DATE:20200625
DTSTAMP:20260419T194929
CREATED:20191107T185019Z
LAST-MODIFIED:20200420T065942Z
UID:1626-1592870400-1593043199@www.borgwn.at
SUMMARY:Kompensationsprüfung Haupttermin
DESCRIPTION:
URL:https://www.borgwn.at/event/kompensationspruefung-haupttermin-2/
CATEGORIES:schulisch
END:VEVENT
BEGIN:VEVENT
DTSTART;TZID=Europe/Vienna:20200626T123000
DTEND;TZID=Europe/Vienna:20200626T130000
DTSTAMP:20260419T194929
CREATED:20200625T045407Z
LAST-MODIFIED:20200625T045407Z
UID:2992-1593174600-1593176400@www.borgwn.at
SUMMARY:Maturafeier 8I1
DESCRIPTION:
URL:https://www.borgwn.at/event/maturafeier-8i1-2/
LOCATION:Festsaal BORG Wiener Neustadt\, Herzog Leopold-Straße 32\, Wiener Neustadt\, Österreich\, 2700
CATEGORIES:schulisch
END:VEVENT
BEGIN:VEVENT
DTSTART;TZID=Europe/Vienna:20200626T130000
DTEND;TZID=Europe/Vienna:20200626T133000
DTSTAMP:20260419T194929
CREATED:20200625T045209Z
LAST-MODIFIED:20200625T045303Z
UID:2988-1593176400-1593178200@www.borgwn.at
SUMMARY:Maturafeier 8I2
DESCRIPTION:
URL:https://www.borgwn.at/event/maturafeier-8i1/
LOCATION:Festsaal BORG Wiener Neustadt\, Herzog Leopold-Straße 32\, Wiener Neustadt\, Österreich\, 2700
CATEGORIES:schulisch
END:VEVENT
BEGIN:VEVENT
DTSTART;TZID=Europe/Vienna:20200626T133000
DTEND;TZID=Europe/Vienna:20200626T140000
DTSTAMP:20260419T194929
CREATED:20200625T045454Z
LAST-MODIFIED:20200625T045454Z
UID:2994-1593178200-1593180000@www.borgwn.at
SUMMARY:Maturafeier 8M1
DESCRIPTION:
URL:https://www.borgwn.at/event/maturafeier-8m1/
LOCATION:Festsaal BORG Wiener Neustadt\, Herzog Leopold-Straße 32\, Wiener Neustadt\, Österreich\, 2700
CATEGORIES:schulisch
END:VEVENT
BEGIN:VEVENT
DTSTART;TZID=Europe/Vienna:20200626T143000
DTEND;TZID=Europe/Vienna:20200626T150000
DTSTAMP:20260419T194929
CREATED:20200625T045545Z
LAST-MODIFIED:20200625T045545Z
UID:2996-1593181800-1593183600@www.borgwn.at
SUMMARY:Maturafeier 8N1
DESCRIPTION:
URL:https://www.borgwn.at/event/maturafeier-8n1/
LOCATION:Festsaal BORG Wiener Neustadt\, Herzog Leopold-Straße 32\, Wiener Neustadt\, Österreich\, 2700
CATEGORIES:schulisch
END:VEVENT
BEGIN:VEVENT
DTSTART;TZID=Europe/Vienna:20200626T150000
DTEND;TZID=Europe/Vienna:20200626T153000
DTSTAMP:20260419T194929
CREATED:20200625T045633Z
LAST-MODIFIED:20200625T045633Z
UID:2998-1593183600-1593185400@www.borgwn.at
SUMMARY:Maturafeier 8N2
DESCRIPTION:
URL:https://www.borgwn.at/event/maturafeier-8n2/
LOCATION:Festsaal BORG Wiener Neustadt\, Herzog Leopold-Straße 32\, Wiener Neustadt\, Österreich\, 2700
CATEGORIES:schulisch
END:VEVENT
BEGIN:VEVENT
DTSTART;TZID=Europe/Vienna:20200626T153000
DTEND;TZID=Europe/Vienna:20200626T160000
DTSTAMP:20260419T194929
CREATED:20200625T045712Z
LAST-MODIFIED:20200625T045712Z
UID:3000-1593185400-1593187200@www.borgwn.at
SUMMARY:Maturafeier 8S1
DESCRIPTION:
URL:https://www.borgwn.at/event/maturafeier-8s1/
LOCATION:Festsaal BORG Wiener Neustadt\, Herzog Leopold-Straße 32\, Wiener Neustadt\, Österreich\, 2700
CATEGORIES:schulisch
END:VEVENT
BEGIN:VEVENT
DTSTART;TZID=Europe/Vienna:20200626T160000
DTEND;TZID=Europe/Vienna:20200626T163000
DTSTAMP:20260419T194929
CREATED:20200625T045757Z
LAST-MODIFIED:20200625T045757Z
UID:3002-1593187200-1593189000@www.borgwn.at
SUMMARY:Maturafeier 8S2
DESCRIPTION:
URL:https://www.borgwn.at/event/maturafeier-8s2/
LOCATION:Festsaal BORG Wiener Neustadt\, Herzog Leopold-Straße 32\, Wiener Neustadt\, Österreich\, 2700
CATEGORIES:schulisch
END:VEVENT
BEGIN:VEVENT
DTSTART;TZID=Europe/Vienna:20200626T170000
DTEND;TZID=Europe/Vienna:20200626T170000
DTSTAMP:20260419T194929
CREATED:20191107T192541Z
LAST-MODIFIED:20200520T071251Z
UID:1695-1593190800-1593190800@www.borgwn.at
SUMMARY:BORG-Fest abgesagt
DESCRIPTION:
URL:https://www.borgwn.at/event/borgfest-2/
CATEGORIES:Veranstaltungen,wichtig
END:VEVENT
BEGIN:VEVENT
DTSTART;VALUE=DATE:20200627
DTEND;VALUE=DATE:20200705
DTSTAMP:20260419T194929
CREATED:20200213T080557Z
LAST-MODIFIED:20200619T083401Z
UID:2595-1593216000-1593907199@www.borgwn.at
SUMMARY:Sprachwoche (LN\, SJ) abgesagt
DESCRIPTION:
URL:https://www.borgwn.at/event/sprachwoche/
LOCATION:Cefalu\, Cefalu\, Italien
CATEGORIES:schulisch
END:VEVENT
BEGIN:VEVENT
DTSTART;VALUE=DATE:20200628
DTEND;VALUE=DATE:20200703
DTSTAMP:20260419T194929
CREATED:20191209T132147Z
LAST-MODIFIED:20200619T083257Z
UID:2305-1593302400-1593734399@www.borgwn.at
SUMMARY:Fit Instruktor-Ausbildungskurs verschoben
DESCRIPTION:
URL:https://www.borgwn.at/event/fit-instruktor-ausbildungskurs-2/
LOCATION:Schielleiten
CATEGORIES:schulisch
END:VEVENT
BEGIN:VEVENT
DTSTART;VALUE=DATE:20200630
DTEND;VALUE=DATE:20200701
DTSTAMP:20260419T194929
CREATED:20191107T185020Z
LAST-MODIFIED:20200515T063152Z
UID:1629-1593475200-1593561599@www.borgwn.at
SUMMARY:Notenschlusskonferenz
DESCRIPTION:
URL:https://www.borgwn.at/event/notenschlusskonferenz-2/
CATEGORIES:schulisch
END:VEVENT
END:VCALENDAR