BEGIN:VCALENDAR
VERSION:2.0
PRODID:-//Borg Wiener Neustadt - ECPv6.15.20//NONSGML v1.0//EN
CALSCALE:GREGORIAN
METHOD:PUBLISH
X-ORIGINAL-URL:https://www.borgwn.at
X-WR-CALDESC:Veranstaltungen für Borg Wiener Neustadt
REFRESH-INTERVAL;VALUE=DURATION:PT1H
X-Robots-Tag:noindex
X-PUBLISHED-TTL:PT1H
BEGIN:VTIMEZONE
TZID:Europe/Vienna
BEGIN:DAYLIGHT
TZOFFSETFROM:+0100
TZOFFSETTO:+0200
TZNAME:CEST
DTSTART:20190331T010000
END:DAYLIGHT
BEGIN:STANDARD
TZOFFSETFROM:+0200
TZOFFSETTO:+0100
TZNAME:CET
DTSTART:20191027T010000
END:STANDARD
BEGIN:DAYLIGHT
TZOFFSETFROM:+0100
TZOFFSETTO:+0200
TZNAME:CEST
DTSTART:20200329T010000
END:DAYLIGHT
BEGIN:STANDARD
TZOFFSETFROM:+0200
TZOFFSETTO:+0100
TZNAME:CET
DTSTART:20201025T010000
END:STANDARD
BEGIN:DAYLIGHT
TZOFFSETFROM:+0100
TZOFFSETTO:+0200
TZNAME:CEST
DTSTART:20210328T010000
END:DAYLIGHT
BEGIN:STANDARD
TZOFFSETFROM:+0200
TZOFFSETTO:+0100
TZNAME:CET
DTSTART:20211031T010000
END:STANDARD
END:VTIMEZONE
BEGIN:VEVENT
DTSTART;VALUE=DATE:20200627
DTEND;VALUE=DATE:20200705
DTSTAMP:20260419T180641
CREATED:20200213T080557Z
LAST-MODIFIED:20200619T083401Z
UID:2595-1593216000-1593907199@www.borgwn.at
SUMMARY:Sprachwoche (LN\, SJ) abgesagt
DESCRIPTION:
URL:https://www.borgwn.at/event/sprachwoche/
LOCATION:Cefalu\, Cefalu\, Italien
CATEGORIES:schulisch
END:VEVENT
BEGIN:VEVENT
DTSTART;VALUE=DATE:20200628
DTEND;VALUE=DATE:20200703
DTSTAMP:20260419T180641
CREATED:20191209T132147Z
LAST-MODIFIED:20200619T083257Z
UID:2305-1593302400-1593734399@www.borgwn.at
SUMMARY:Fit Instruktor-Ausbildungskurs verschoben
DESCRIPTION:
URL:https://www.borgwn.at/event/fit-instruktor-ausbildungskurs-2/
LOCATION:Schielleiten
CATEGORIES:schulisch
END:VEVENT
BEGIN:VEVENT
DTSTART;VALUE=DATE:20200701
DTEND;VALUE=DATE:20200702
DTSTAMP:20260419T180641
CREATED:20200625T050311Z
LAST-MODIFIED:20200625T050311Z
UID:3004-1593561600-1593647999@www.borgwn.at
SUMMARY:Aufnahmsprüfung Deutsch und Mathematik
DESCRIPTION:
URL:https://www.borgwn.at/event/aufnahmspruefung-deutsch-und-mathematik/
LOCATION:Festsaal BORG Wiener Neustadt\, Herzog Leopold-Straße 32\, Wiener Neustadt\, Österreich\, 2700
CATEGORIES:schulisch
END:VEVENT
BEGIN:VEVENT
DTSTART;VALUE=DATE:20200702
DTEND;VALUE=DATE:20200703
DTSTAMP:20260419T180641
CREATED:20200625T050712Z
LAST-MODIFIED:20200625T050712Z
UID:3006-1593648000-1593734399@www.borgwn.at
SUMMARY:Aufnahmsprüfung Englisch
DESCRIPTION:
URL:https://www.borgwn.at/event/aufnahmspruefung-englisch/
LOCATION:Festsaal BORG Wiener Neustadt\, Herzog Leopold-Straße 32\, Wiener Neustadt\, Österreich\, 2700
CATEGORIES:schulisch
END:VEVENT
BEGIN:VEVENT
DTSTART;VALUE=DATE:20200704
DTEND;VALUE=DATE:20200907
DTSTAMP:20260419T180641
CREATED:20191108T062457Z
LAST-MODIFIED:20200108T125732Z
UID:1716-1593820800-1599436799@www.borgwn.at
SUMMARY:Hauptferien
DESCRIPTION:
URL:https://www.borgwn.at/event/hauptferien-2/
CATEGORIES:schulfrei
END:VEVENT
BEGIN:VEVENT
DTSTART;TZID=Europe/Vienna:20200706T080000
DTEND;TZID=Europe/Vienna:20200710T120000
DTSTAMP:20260419T180641
CREATED:20200710T080539Z
LAST-MODIFIED:20200710T080946Z
UID:3037-1594022400-1594382400@www.borgwn.at
SUMMARY:Öffnungszeiten der Schule: 08-12:00 Uhr
DESCRIPTION:
URL:https://www.borgwn.at/event/oeffnungszeiten-der-schule-08-1200-uhr/
LOCATION:BORG Wiener Neustadt\, Herzog Leopold-Straße 32\, Wiener Neustadt\, Österreich\, 2700
CATEGORIES:schulisch
END:VEVENT
BEGIN:VEVENT
DTSTART;TZID=Europe/Vienna:20200714T100000
DTEND;TZID=Europe/Vienna:20200714T120000
DTSTAMP:20260419T180641
CREATED:20200710T080626Z
LAST-MODIFIED:20200710T081102Z
UID:3039-1594720800-1594728000@www.borgwn.at
SUMMARY:telefonischer Journaldienst 10-12:00 Uhr
DESCRIPTION:
URL:https://www.borgwn.at/event/telefonischer-journaldienst/
LOCATION:BORG Wiener Neustadt\, Herzog Leopold-Straße 32\, Wiener Neustadt\, Österreich\, 2700
CATEGORIES:schulisch
END:VEVENT
END:VCALENDAR