BEGIN:VCALENDAR
VERSION:2.0
PRODID:-//Borg Wiener Neustadt - ECPv6.15.20//NONSGML v1.0//EN
CALSCALE:GREGORIAN
METHOD:PUBLISH
X-WR-CALNAME:Borg Wiener Neustadt
X-ORIGINAL-URL:https://www.borgwn.at
X-WR-CALDESC:Veranstaltungen für Borg Wiener Neustadt
REFRESH-INTERVAL;VALUE=DURATION:PT1H
X-Robots-Tag:noindex
X-PUBLISHED-TTL:PT1H
BEGIN:VTIMEZONE
TZID:Europe/Vienna
BEGIN:DAYLIGHT
TZOFFSETFROM:+0100
TZOFFSETTO:+0200
TZNAME:CEST
DTSTART:20190331T010000
END:DAYLIGHT
BEGIN:STANDARD
TZOFFSETFROM:+0200
TZOFFSETTO:+0100
TZNAME:CET
DTSTART:20191027T010000
END:STANDARD
BEGIN:DAYLIGHT
TZOFFSETFROM:+0100
TZOFFSETTO:+0200
TZNAME:CEST
DTSTART:20200329T010000
END:DAYLIGHT
BEGIN:STANDARD
TZOFFSETFROM:+0200
TZOFFSETTO:+0100
TZNAME:CET
DTSTART:20201025T010000
END:STANDARD
BEGIN:DAYLIGHT
TZOFFSETFROM:+0100
TZOFFSETTO:+0200
TZNAME:CEST
DTSTART:20210328T010000
END:DAYLIGHT
BEGIN:STANDARD
TZOFFSETFROM:+0200
TZOFFSETTO:+0100
TZNAME:CET
DTSTART:20211031T010000
END:STANDARD
END:VTIMEZONE
BEGIN:VEVENT
DTSTART;VALUE=DATE:20200704
DTEND;VALUE=DATE:20200907
DTSTAMP:20260419T143842
CREATED:20191108T062457Z
LAST-MODIFIED:20200108T125732Z
UID:1716-1593820800-1599436799@www.borgwn.at
SUMMARY:Hauptferien
DESCRIPTION:
URL:https://www.borgwn.at/event/hauptferien-2/
CATEGORIES:schulfrei
END:VEVENT
BEGIN:VEVENT
DTSTART;TZID=Europe/Vienna:20200831T080000
DTEND;TZID=Europe/Vienna:20200904T120000
DTSTAMP:20260419T143842
CREATED:20200710T080759Z
LAST-MODIFIED:20200710T080759Z
UID:3043-1598860800-1599220800@www.borgwn.at
SUMMARY:Öffnungszeiten der Schule 08-12:00 Uhr
DESCRIPTION:
URL:https://www.borgwn.at/event/oeffnungszeiten-der-schule-08-1200-uhr-2/
LOCATION:BORG Wiener Neustadt\, Herzog Leopold-Straße 32\, Wiener Neustadt\, Österreich\, 2700
CATEGORIES:schulisch
END:VEVENT
BEGIN:VEVENT
DTSTART;VALUE=DATE:20200903
DTEND;VALUE=DATE:20200904
DTSTAMP:20260419T143842
CREATED:20200629T071344Z
LAST-MODIFIED:20200629T071344Z
UID:3008-1599091200-1599177599@www.borgwn.at
SUMMARY:Wiederholungsprüfungen
DESCRIPTION:
URL:https://www.borgwn.at/event/wiederholungspruefungen/
LOCATION:BORG Wiener Neustadt\, Herzog Leopold-Straße 32\, Wiener Neustadt\, Österreich\, 2700
CATEGORIES:schulisch
END:VEVENT
BEGIN:VEVENT
DTSTART;VALUE=DATE:20200904
DTEND;VALUE=DATE:20200905
DTSTAMP:20260419T143842
CREATED:20200629T071428Z
LAST-MODIFIED:20200629T071428Z
UID:3010-1599177600-1599263999@www.borgwn.at
SUMMARY:Wiederholungsprüfungen
DESCRIPTION:
URL:https://www.borgwn.at/event/wiederholungspruefungen-2/
LOCATION:BORG Wiener Neustadt\, Herzog Leopold-Straße 32\, Wiener Neustadt\, Österreich\, 2700
CATEGORIES:schulisch
END:VEVENT
BEGIN:VEVENT
DTSTART;TZID=Europe/Vienna:20200905T170000
DTEND;TZID=Europe/Vienna:20200905T170000
DTSTAMP:20260419T143842
CREATED:20191127T105829Z
LAST-MODIFIED:20200217T062459Z
UID:2191-1599325200-1599325200@www.borgwn.at
SUMMARY:Variacello-Konzert Klaviertrio
DESCRIPTION:
URL:https://www.borgwn.at/event/variacello-konzert-klaviertrio/
LOCATION:Festsaal BORG Wiener Neustadt\, Herzog Leopold-Straße 32\, Wiener Neustadt\, Österreich\, 2700
CATEGORIES:Veranstaltungen
END:VEVENT
BEGIN:VEVENT
DTSTART;TZID=Europe/Vienna:20200907T083000
DTEND;TZID=Europe/Vienna:20200907T122000
DTSTAMP:20260419T143842
CREATED:20200605T065209Z
LAST-MODIFIED:20200605T065209Z
UID:2951-1599467400-1599481200@www.borgwn.at
SUMMARY:Schulbeginn um 08:30 Uhr
DESCRIPTION:
URL:https://www.borgwn.at/event/schulbeginn-um-0830-uhr/
LOCATION:BORG Wiener Neustadt\, Herzog Leopold-Straße 32\, Wiener Neustadt\, Österreich\, 2700
CATEGORIES:schulisch
END:VEVENT
BEGIN:VEVENT
DTSTART;VALUE=DATE:20200911
DTEND;VALUE=DATE:20200912
DTSTAMP:20260419T143842
CREATED:20200630T090848Z
LAST-MODIFIED:20200721T074257Z
UID:3014-1599782400-1599868799@www.borgwn.at
SUMMARY:Hochladen und Abgabe der VWA für den Herbsttermin
DESCRIPTION:
URL:https://www.borgwn.at/event/abgabe-der-vwa-fuer-den-herbsttermin/
CATEGORIES:schulisch
END:VEVENT
BEGIN:VEVENT
DTSTART;TZID=Europe/Vienna:20200911T131000
DTEND;TZID=Europe/Vienna:20200911T131000
DTSTAMP:20260419T143842
CREATED:20200902T071316Z
LAST-MODIFIED:20200902T071316Z
UID:3061-1599829800-1599829800@www.borgwn.at
SUMMARY:Einteilung der IU-Stunden
DESCRIPTION:
URL:https://www.borgwn.at/event/einteilung-der-iu-stunden-2/
LOCATION:Aula\, Herzog Leopold-Straße 32\, Wiener Neustadt\, 2700
CATEGORIES:schulisch
END:VEVENT
BEGIN:VEVENT
DTSTART;TZID=Europe/Vienna:20200916T083000
DTEND;TZID=Europe/Vienna:20200916T083000
DTSTAMP:20260419T143842
CREATED:20191107T191501Z
LAST-MODIFIED:20200108T125750Z
UID:1642-1600245000-1600245000@www.borgwn.at
SUMMARY:Reifeprüfung Herbsttermin schriftlich MATHEMATIK
DESCRIPTION:
URL:https://www.borgwn.at/event/reifepruefung-herbsttermin-schriftlich-mathematik-2/
CATEGORIES:schulisch
END:VEVENT
BEGIN:VEVENT
DTSTART;TZID=Europe/Vienna:20200917T083000
DTEND;TZID=Europe/Vienna:20200917T083000
DTSTAMP:20260419T143842
CREATED:20191107T191502Z
LAST-MODIFIED:20200108T125808Z
UID:1643-1600331400-1600331400@www.borgwn.at
SUMMARY:Reifeprüfung Herbsttermin schriftlich DEUTSCH
DESCRIPTION:
URL:https://www.borgwn.at/event/reifepruefung-herbsttermin-schriftlich-deutsch-2/
CATEGORIES:schulisch
END:VEVENT
BEGIN:VEVENT
DTSTART;TZID=Europe/Vienna:20200918T083000
DTEND;TZID=Europe/Vienna:20200918T083000
DTSTAMP:20260419T143842
CREATED:20191107T191502Z
LAST-MODIFIED:20200108T125833Z
UID:1644-1600417800-1600417800@www.borgwn.at
SUMMARY:Reifeprüfung Herbsttermin schriftlich ENGLISCH
DESCRIPTION:
URL:https://www.borgwn.at/event/reifepruefung-herbsttermin-schriftlich-englisch-2/
CATEGORIES:schulisch
END:VEVENT
BEGIN:VEVENT
DTSTART;VALUE=DATE:20200924
DTEND;VALUE=DATE:20200927
DTSTAMP:20260419T143842
CREATED:20200619T052117Z
LAST-MODIFIED:20200619T052117Z
UID:2975-1600905600-1601164799@www.borgwn.at
SUMMARY:Fit Instruktor-Ausbildungskurs
DESCRIPTION:
URL:https://www.borgwn.at/event/fit-instruktor-ausbildungskurs-3/
LOCATION:BORG Wiener Neustadt\, Herzog Leopold-Straße 32\, Wiener Neustadt\, Österreich\, 2700
CATEGORIES:schulisch
END:VEVENT
BEGIN:VEVENT
DTSTART;TZID=Europe/Vienna:20200925T083000
DTEND;TZID=Europe/Vienna:20200925T083000
DTSTAMP:20260419T143842
CREATED:20191107T191505Z
LAST-MODIFIED:20200108T130021Z
UID:1648-1601022600-1601022600@www.borgwn.at
SUMMARY:Reifeprüfung Herbsttermin schriftlich ITALIENISCH
DESCRIPTION:
URL:https://www.borgwn.at/event/reifepruefung-herbsttermin-schriftlich-italienisch/
CATEGORIES:schulisch
END:VEVENT
BEGIN:VEVENT
DTSTART;VALUE=DATE:20200928
DTEND;VALUE=DATE:20200929
DTSTAMP:20260419T143842
CREATED:20200605T065630Z
LAST-MODIFIED:20200710T080111Z
UID:2953-1601251200-1601337599@www.borgwn.at
SUMMARY:Hearing für die Schulsprecherwahl
DESCRIPTION:
URL:https://www.borgwn.at/event/hearing-fuer-die-schulsprecherwahl/
LOCATION:BORG Wiener Neustadt\, Herzog Leopold-Straße 32\, Wiener Neustadt\, Österreich\, 2700
CATEGORIES:schulisch
END:VEVENT
BEGIN:VEVENT
DTSTART;VALUE=DATE:20200930
DTEND;VALUE=DATE:20201001
DTSTAMP:20260419T143842
CREATED:20200605T065705Z
LAST-MODIFIED:20200710T075929Z
UID:2955-1601424000-1601510399@www.borgwn.at
SUMMARY:Schulsprecherwahl
DESCRIPTION:
URL:https://www.borgwn.at/event/schulsprecherwahl-2/
LOCATION:BORG Wiener Neustadt\, Herzog Leopold-Straße 32\, Wiener Neustadt\, Österreich\, 2700
CATEGORIES:schulisch
END:VEVENT
END:VCALENDAR